BEGIN:VCALENDAR
VERSION:2.0
PRODID:Events Booking
BEGIN:VEVENT
UID:69e74c554ae36
SUMMARY:Visite guidate alla Pieve di Trebbio
DESCRIPTION:Contornata da verdi colline\, a poca distanza dai&nbsp\;Sassi d
 i Roccamalatina\, sorge l’antica chiesa plebana dedicata a San Giovanni 
 Battista in un contesto territoriale ricco e dominato dalla potente famigl
 ia dei&nbsp\;Malatigni. Da allora numerosi interventi hanno trasformato l
 ’aspetto originario della struttura\, ma tra le sue mura si possono anco
 ra leggere le vicende che hanno interessato questo luogo.
LOCATION:Via Casa Giusti\, Guiglia (MO)
DTSTART:20260315T000000Z
DTEND:20261018T000000Z
DTSTAMP:20260311T172433Z
ORGANIZER;CN=Etcetera... e via andando:MAILTO:eventi@etceteralab.it
GEO:44.399552;10.950101
X-APPLE-STRUCTURED-LOCATION;VALUE=URI;X-ADDRESS=Via Casa Giusti\, Guiglia (
 MO);X-APPLE-RADIUS=72;X-TITLE=Pieve di Trebbio:44.399552;10.950101
END:VEVENT
END:VCALENDAR