BEGIN:VCALENDAR
VERSION:2.0
PRODID:Events Booking
BEGIN:VEVENT
UID:69e7339bcd1cc
SUMMARY:MEDITAZIONE E FOREST BATHING AI SASSI DI ROCCAMALATINA
DESCRIPTION:Un'esperienza autunnale in pieno contatto con la natura. Nella 
 pace e tranquillità\, nella bellezza e nel silenzio di un bosco i nostri&
 nbsp\;cinque sensi si acuiscono e si affinano\, capaci di sentire e di asc
 oltare.
 &nbsp\;
LOCATION:Via Castellino\, Rocca Malatina di Guiglia (MO)
DTSTART:20251012T100000Z
DTEND:20251012T120000Z
DTSTAMP:20240511T180436Z
ORGANIZER;CN=Etcetera... e via andando:MAILTO:eventi@etceteralab.it
GEO:44.393868;10.944606
X-APPLE-STRUCTURED-LOCATION;VALUE=URI;X-ADDRESS=Via Castellino\, Rocca Mala
 tina di Guiglia (MO);X-APPLE-RADIUS=72;X-TITLE=Chiosco La Quiete:44.393868
 ;10.944606
END:VEVENT
END:VCALENDAR